BEGIN:VCALENDAR
VERSION:2.0
PRODID:icalendar-ruby
CALSCALE:GREGORIAN
METHOD:PUBLISH
BEGIN:VEVENT
DTSTAMP:20260422T035418Z
UID:5-402548@trinitylutheran.tithelysetup8.com
DTSTART:20260830T173000Z
DTEND:20260830T183000Z
CLASS:PUBLIC
CREATED:20260421T172757
DESCRIPTION:Sunday Worship
LAST-MODIFIED:20260421T172757
LOCATION:
SUMMARY:Sunday Worship
URL;VALUE=URI:https://trinitylutheran.tithelysetup8.com/events/sunday-worsh
 ip/2026-08-30
END:VEVENT
END:VCALENDAR
